BEGIN:VCALENDAR
VERSION:2.0
PRODID:-//hacksw/handcal//NONSGML v1.0//EN
BEGIN:VEVENT
UID:8332
DTSTART;VALUE=DATE:20171014
URL;VALUE=URI:ohschonhell.at/?page_id=16619
SUMMARY:Night of World Music
LOCATION:CAFE DERWISCH
END:VEVENT
END:VCALENDAR


