BEGIN:VCALENDAR
VERSION:2.0
PRODID:-//hacksw/handcal//NONSGML v1.0//EN
BEGIN:VEVENT
UID:8337
DTSTART;VALUE=DATE:20170614
URL;VALUE=URI:ohschonhell.at/?page_id=16629
SUMMARY:Albert &amp\; Tina 2017
LOCATION:ALBERTINA
END:VEVENT
END:VCALENDAR


