BEGIN:VCALENDAR
VERSION:2.0
PRODID:-//hacksw/handcal//NONSGML v1.0//EN
BEGIN:VEVENT
UID:8343
DTSTART;VALUE=DATE:20170601
URL;VALUE=URI:ohschonhell.at/?page_id=16641
SUMMARY:Cheeky Thursday
LOCATION:PRIME
END:VEVENT
END:VCALENDAR


