BEGIN:VCALENDAR
VERSION:2.0
PRODID:-//hacksw/handcal//NONSGML v1.0//EN
BEGIN:VEVENT
UID:8347
DTSTART;VALUE=DATE:20170527
URL;VALUE=URI:ohschonhell.at/?page_id=16649
SUMMARY:Afterhour mit Bart und Busen und Mas Maris
LOCATION:Cafe Club Belami
END:VEVENT
END:VCALENDAR


