BEGIN:VCALENDAR
VERSION:2.0
PRODID:-//hacksw/handcal//NONSGML v1.0//EN
BEGIN:VEVENT
UID:8350
DTSTART;VALUE=DATE:20170525
URL;VALUE=URI:ohschonhell.at/?page_id=16655
SUMMARY:Cheeky Thursday
LOCATION:PRIME
END:VEVENT
END:VCALENDAR


