BEGIN:VCALENDAR
VERSION:2.0
PRODID:-//hacksw/handcal//NONSGML v1.0//EN
BEGIN:VEVENT
UID:8355
DTSTART;VALUE=DATE:20170617
URL;VALUE=URI:ohschonhell.at/?page_id=16673
SUMMARY:Jazzsticks Extraordinaire with Bryan Gee &amp\; MC Conrad
LOCATION:PRIME
END:VEVENT
END:VCALENDAR


