BEGIN:VCALENDAR
VERSION:2.0
PRODID:-//hacksw/handcal//NONSGML v1.0//EN
BEGIN:VEVENT
UID:8362
DTSTART;VALUE=DATE:20170603
URL;VALUE=URI:ohschonhell.at/?page_id=16688
SUMMARY:FREIE LUFT #4 (3 Tage Demo mit Techno\, House\, DnB\, uvm.)
LOCATION:Maria-Theresien-Platz
END:VEVENT
END:VCALENDAR


