BEGIN:VCALENDAR
VERSION:2.0
PRODID:-//hacksw/handcal//NONSGML v1.0//EN
BEGIN:VEVENT
UID:8390
DTSTART;VALUE=DATE:20170604
URL;VALUE=URI:ohschonhell.at/?page_id=16750
SUMMARY:FREIE LUFT #4 (3 Tage / 3 Genres / 1 Thema: Versammlungsfreiheit!)
LOCATION:Maria-Theresien-Platz
END:VEVENT
END:VCALENDAR


