BEGIN:VCALENDAR
VERSION:2.0
PRODID:-//hacksw/handcal//NONSGML v1.0//EN
BEGIN:VEVENT
UID:8396
DTSTART;VALUE=DATE:20170609
URL;VALUE=URI:ohschonhell.at/?page_id=16764
SUMMARY:DiSCO FRiSCO | Elektro Gönner
LOCATION:ELEKTRO GÖNNER
END:VEVENT
END:VCALENDAR


