BEGIN:VCALENDAR
VERSION:2.0
PRODID:-//hacksw/handcal//NONSGML v1.0//EN
BEGIN:VEVENT
UID:8399
DTSTART;VALUE=DATE:20170605
URL;VALUE=URI:ohschonhell.at/?page_id=16770
SUMMARY:Liquid Mondays
LOCATION:Der Garten
END:VEVENT
END:VCALENDAR


