BEGIN:VCALENDAR
VERSION:2.0
PRODID:-//hacksw/handcal//NONSGML v1.0//EN
BEGIN:VEVENT
UID:8412
DTSTART;VALUE=DATE:20170610
URL;VALUE=URI:ohschonhell.at/?page_id=16801
SUMMARY:Push 4 DnB presents: Sun &amp\; Beach Series Summer 2017
LOCATION:PORTO POLLO
END:VEVENT
END:VCALENDAR


