BEGIN:VCALENDAR
VERSION:2.0
PRODID:-//hacksw/handcal//NONSGML v1.0//EN
BEGIN:VEVENT
UID:8416
DTSTART;VALUE=DATE:20170701
URL;VALUE=URI:ohschonhell.at/?page_id=16816
SUMMARY:Open Air ☼ Aufwind ~ Tanz durch den Tag 2017
LOCATION:Donauinsel
END:VEVENT
END:VCALENDAR


