BEGIN:VCALENDAR
VERSION:2.0
PRODID:-//hacksw/handcal//NONSGML v1.0//EN
BEGIN:VEVENT
UID:8427
DTSTART;VALUE=DATE:20170618
URL;VALUE=URI:ohschonhell.at/?page_id=16839
SUMMARY:MorgenKlang presents Push-4-TeC Afterhour
LOCATION:MorgenKlang
END:VEVENT
END:VCALENDAR


