BEGIN:VCALENDAR
VERSION:2.0
PRODID:-//hacksw/handcal//NONSGML v1.0//EN
BEGIN:VEVENT
UID:8430
DTSTART;VALUE=DATE:20170614
URL;VALUE=URI:ohschonhell.at/?page_id=16845
SUMMARY:WTF - Wir bitten zum Tanz im SASS
LOCATION:SASS
END:VEVENT
END:VCALENDAR


