BEGIN:VCALENDAR
VERSION:2.0
PRODID:-//hacksw/handcal//NONSGML v1.0//EN
BEGIN:VEVENT
UID:8445
DTSTART;VALUE=DATE:20170616
URL;VALUE=URI:ohschonhell.at/?page_id=16880
SUMMARY:Legendary TruckPack Free Pre-Party
LOCATION:AUSLAGE
END:VEVENT
END:VCALENDAR


