BEGIN:VCALENDAR
VERSION:2.0
PRODID:-//hacksw/handcal//NONSGML v1.0//EN
BEGIN:VEVENT
UID:8454
DTSTART;VALUE=DATE:20170624
URL;VALUE=URI:ohschonhell.at/?page_id=16912
SUMMARY:Playground AV presents HAPPY TECHNO MASSACRE
LOCATION:Lichtbogen334
END:VEVENT
END:VCALENDAR


