BEGIN:VCALENDAR
VERSION:2.0
PRODID:-//hacksw/handcal//NONSGML v1.0//EN
BEGIN:VEVENT
UID:8475
DTSTART;VALUE=DATE:20170622
URL;VALUE=URI:ohschonhell.at/?page_id=16958
SUMMARY:Playground AV presents Rooftop Lights
LOCATION:Ruby Marie Hotel & Bar
END:VEVENT
END:VCALENDAR


