BEGIN:VCALENDAR
VERSION:2.0
PRODID:-//hacksw/handcal//NONSGML v1.0//EN
BEGIN:VEVENT
UID:8482
DTSTART;VALUE=DATE:20170718
URL;VALUE=URI:ohschonhell.at/?page_id=16974
SUMMARY:Das Technocafe
LOCATION:VOLKSGARTEN PAVILLON
END:VEVENT
END:VCALENDAR


