BEGIN:VCALENDAR
VERSION:2.0
PRODID:-//hacksw/handcal//NONSGML v1.0//EN
BEGIN:VEVENT
UID:8537
DTSTART;VALUE=DATE:20170624
URL;VALUE=URI:ohschonhell.at/?page_id=17094
SUMMARY:Nachtflug /eins //juni24sa ///premiere
LOCATION:VIENNA CITY BEACH CLUB
END:VEVENT
END:VCALENDAR


