BEGIN:VCALENDAR
VERSION:2.0
PRODID:-//hacksw/handcal//NONSGML v1.0//EN
BEGIN:VEVENT
UID:8539
DTSTART;VALUE=DATE:20170622
URL;VALUE=URI:ohschonhell.at/?page_id=17100
SUMMARY:Playground AV presents &quot\;Walk Of Frame&quot\; Outdoor Mappings &amp\; Co
LOCATION:Lichtbogen334
END:VEVENT
END:VCALENDAR


