BEGIN:VCALENDAR
VERSION:2.0
PRODID:-//hacksw/handcal//NONSGML v1.0//EN
BEGIN:VEVENT
UID:8553
DTSTART;VALUE=DATE:20170701
URL;VALUE=URI:ohschonhell.at/?page_id=17145
SUMMARY:MorgenKlang &amp\; push4TeC presents Special Edition Afterhour
LOCATION:MorgenKlang
END:VEVENT
END:VCALENDAR


