BEGIN:VCALENDAR
VERSION:2.0
PRODID:-//hacksw/handcal//NONSGML v1.0//EN
BEGIN:VEVENT
UID:8554
DTSTART;VALUE=DATE:20170630
URL;VALUE=URI:ohschonhell.at/?page_id=17147
SUMMARY:Morgenklang &amp\; Push 4 TeC presents: Vinyl Edition
LOCATION:VIPER ROOM
END:VEVENT
END:VCALENDAR


