BEGIN:VCALENDAR
VERSION:2.0
PRODID:-//hacksw/handcal//NONSGML v1.0//EN
BEGIN:VEVENT
UID:8555
DTSTART;VALUE=DATE:20170728
URL;VALUE=URI:ohschonhell.at/?page_id=17159
SUMMARY:Erna kramt #3
LOCATION:Kramladen
END:VEVENT
END:VCALENDAR


