BEGIN:VCALENDAR
VERSION:2.0
PRODID:-//hacksw/handcal//NONSGML v1.0//EN
BEGIN:VEVENT
UID:8564
DTSTART;VALUE=DATE:20170722
URL;VALUE=URI:ohschonhell.at/?page_id=17177
SUMMARY:Pieces Of Four - Free Party
LOCATION:Meuterei
END:VEVENT
END:VCALENDAR


