BEGIN:VCALENDAR
VERSION:2.0
PRODID:-//hacksw/handcal//NONSGML v1.0//EN
BEGIN:VEVENT
UID:8588
DTSTART;VALUE=DATE:20170714
URL;VALUE=URI:ohschonhell.at/?page_id=17235
SUMMARY:Primetime
LOCATION:PRIME
END:VEVENT
END:VCALENDAR


