BEGIN:VCALENDAR
VERSION:2.0
PRODID:-//hacksw/handcal//NONSGML v1.0//EN
BEGIN:VEVENT
UID:8590
DTSTART;VALUE=DATE:20170709
URL;VALUE=URI:ohschonhell.at/?page_id=17239
SUMMARY:MorgenKlang presents Tanzpiraten
LOCATION:MorgenKlang
END:VEVENT
END:VCALENDAR


