BEGIN:VCALENDAR
VERSION:2.0
PRODID:-//hacksw/handcal//NONSGML v1.0//EN
BEGIN:VEVENT
UID:8591
DTSTART;VALUE=DATE:20170708
URL;VALUE=URI:ohschonhell.at/?page_id=17241
SUMMARY:Eventuell GROSS - Das Sommerfest am Volksgarten Areal
LOCATION:VOLKSGARTEN
END:VEVENT
END:VCALENDAR


