BEGIN:VCALENDAR
VERSION:2.0
PRODID:-//hacksw/handcal//NONSGML v1.0//EN
BEGIN:VEVENT
UID:8615
DTSTART;VALUE=DATE:20170711
URL;VALUE=URI:ohschonhell.at/?page_id=17299
SUMMARY::Overdose pres.: High Temperature #2
LOCATION:PRIME
END:VEVENT
END:VCALENDAR


