BEGIN:VCALENDAR
VERSION:2.0
PRODID:-//hacksw/handcal//NONSGML v1.0//EN
BEGIN:VEVENT
UID:8624
DTSTART;VALUE=DATE:20170818
URL;VALUE=URI:ohschonhell.at/?page_id=17344
SUMMARY:Breaks Lab
LOCATION:Kramladen
END:VEVENT
END:VCALENDAR


