BEGIN:VCALENDAR
VERSION:2.0
PRODID:-//hacksw/handcal//NONSGML v1.0//EN
BEGIN:VEVENT
UID:8638
DTSTART;VALUE=DATE:20170722
URL;VALUE=URI:ohschonhell.at/?page_id=17392
SUMMARY:Affine im Sommer feat. Zanshin &amp\; The Reboot Joy Confession
LOCATION:BURGTHEATER
END:VEVENT
END:VCALENDAR


