BEGIN:VCALENDAR
VERSION:2.0
PRODID:-//hacksw/handcal//NONSGML v1.0//EN
BEGIN:VEVENT
UID:864
DTSTART;VALUE=DATE:20140314
URL;VALUE=URI:ohschonhell.at/?page_id=3329
SUMMARY:Minisex | &quot\;Reduziert&quot\; Album Release Party | &lt\;&gt\;&lt\;
LOCATION:GRELLE FORELLE
END:VEVENT
END:VCALENDAR


