BEGIN:VCALENDAR
VERSION:2.0
PRODID:-//hacksw/handcal//NONSGML v1.0//EN
BEGIN:VEVENT
UID:8659
DTSTART;VALUE=DATE:20170729
URL;VALUE=URI:ohschonhell.at/?page_id=17486
SUMMARY:Hi-Psy Summer w/ Alphatrance &amp\; Entheon
LOCATION:SUMMER STATION
END:VEVENT
END:VCALENDAR


