BEGIN:VCALENDAR
VERSION:2.0
PRODID:-//hacksw/handcal//NONSGML v1.0//EN
BEGIN:VEVENT
UID:8661
DTSTART;VALUE=DATE:20170728
URL;VALUE=URI:ohschonhell.at/?page_id=17490
SUMMARY:06 :membrane: 06
LOCATION:AU
END:VEVENT
END:VCALENDAR


