BEGIN:VCALENDAR
VERSION:2.0
PRODID:-//hacksw/handcal//NONSGML v1.0//EN
BEGIN:VEVENT
UID:8664
DTSTART;VALUE=DATE:20170721
URL;VALUE=URI:ohschonhell.at/?page_id=17498
SUMMARY:Deep in Trance ॐ Summer Edition w// Kabayun live!
LOCATION:PRIME
END:VEVENT
END:VCALENDAR


