BEGIN:VCALENDAR
VERSION:2.0
PRODID:-//hacksw/handcal//NONSGML v1.0//EN
BEGIN:VEVENT
UID:8667
DTSTART;VALUE=DATE:20170714
URL;VALUE=URI:ohschonhell.at/?page_id=17506
SUMMARY:Subcultures Under Pressure
LOCATION:AU
END:VEVENT
END:VCALENDAR


