BEGIN:VCALENDAR
VERSION:2.0
PRODID:-//hacksw/handcal//NONSGML v1.0//EN
BEGIN:VEVENT
UID:8676
DTSTART;VALUE=DATE:20170721
URL;VALUE=URI:ohschonhell.at/?page_id=17562
SUMMARY:Café del Mario presents Soldo54
LOCATION:Café Luftschloss Cobenzl
END:VEVENT
END:VCALENDAR


