BEGIN:VCALENDAR
VERSION:2.0
PRODID:-//hacksw/handcal//NONSGML v1.0//EN
BEGIN:VEVENT
UID:8699
DTSTART;VALUE=DATE:20170811
URL;VALUE=URI:ohschonhell.at/?page_id=17625
SUMMARY:UNTER die Gürtellinie | Free Techno Party
LOCATION:Kramladen
END:VEVENT
END:VCALENDAR


