BEGIN:VCALENDAR
VERSION:2.0
PRODID:-//hacksw/handcal//NONSGML v1.0//EN
BEGIN:VEVENT
UID:8737
DTSTART;VALUE=DATE:20170801
URL;VALUE=URI:ohschonhell.at/?page_id=17763
SUMMARY:Das techno Cafe - Leitstrahl Extended Family
LOCATION:VOLKSGARTEN PAVILLON
END:VEVENT
END:VCALENDAR


