BEGIN:VCALENDAR
VERSION:2.0
PRODID:-//hacksw/handcal//NONSGML v1.0//EN
BEGIN:VEVENT
UID:8741
DTSTART;VALUE=DATE:20170829
URL;VALUE=URI:ohschonhell.at/?page_id=17771
SUMMARY:Das techno Cafe - DiscoMelange
LOCATION:VOLKSGARTEN PAVILLON
END:VEVENT
END:VCALENDAR


