BEGIN:VCALENDAR
VERSION:2.0
PRODID:-//hacksw/handcal//NONSGML v1.0//EN
BEGIN:VEVENT
UID:8742
DTSTART;VALUE=DATE:20170825
URL;VALUE=URI:ohschonhell.at/?page_id=17773
SUMMARY:Klein Aber Fein - Paula Garcés (COLOMBIA)
LOCATION:PRIME
END:VEVENT
END:VCALENDAR


