BEGIN:VCALENDAR
VERSION:2.0
PRODID:-//hacksw/handcal//NONSGML v1.0//EN
BEGIN:VEVENT
UID:8747
DTSTART;VALUE=DATE:20170825
URL;VALUE=URI:ohschonhell.at/?page_id=17783
SUMMARY:COBENZL // OPEN AIR
LOCATION:Café Luftschloss Cobenzl
END:VEVENT
END:VCALENDAR


