BEGIN:VCALENDAR
VERSION:2.0
PRODID:-//hacksw/handcal//NONSGML v1.0//EN
BEGIN:VEVENT
UID:8757
DTSTART;VALUE=DATE:20170811
URL;VALUE=URI:ohschonhell.at/?page_id=17803
SUMMARY:Rave On #27
LOCATION:FLUCC
END:VEVENT
END:VCALENDAR


