BEGIN:VCALENDAR
VERSION:2.0
PRODID:-//hacksw/handcal//NONSGML v1.0//EN
BEGIN:VEVENT
UID:8773
DTSTART;VALUE=DATE:20170818
URL;VALUE=URI:ohschonhell.at/?page_id=17853
SUMMARY:Pieces of Four - Volvox - Discwoman
LOCATION:Meuterei
END:VEVENT
END:VCALENDAR


