BEGIN:VCALENDAR
VERSION:2.0
PRODID:-//hacksw/handcal//NONSGML v1.0//EN
BEGIN:VEVENT
UID:8779
DTSTART;VALUE=DATE:20170805
URL;VALUE=URI:ohschonhell.at/?page_id=17867
SUMMARY:Rainbow Gönner Disco Club
LOCATION:ELEKTRO GÖNNER
END:VEVENT
END:VCALENDAR


