BEGIN:VCALENDAR
VERSION:2.0
PRODID:-//hacksw/handcal//NONSGML v1.0//EN
BEGIN:VEVENT
UID:8780
DTSTART;VALUE=DATE:20170804
URL;VALUE=URI:ohschonhell.at/?page_id=17869
SUMMARY:Sheer Serenity
LOCATION:ELEKTRO GÖNNER
END:VEVENT
END:VCALENDAR


