BEGIN:VCALENDAR
VERSION:2.0
PRODID:-//hacksw/handcal//NONSGML v1.0//EN
BEGIN:VEVENT
UID:8801
DTSTART;VALUE=DATE:20170907
URL;VALUE=URI:ohschonhell.at/?page_id=17979
SUMMARY:Tricky! Fullmoon Party
LOCATION:PRIME
END:VEVENT
END:VCALENDAR


