BEGIN:VCALENDAR
VERSION:2.0
PRODID:-//hacksw/handcal//NONSGML v1.0//EN
BEGIN:VEVENT
UID:8816
DTSTART;VALUE=DATE:20170818
URL;VALUE=URI:ohschonhell.at/?page_id=18009
SUMMARY:Hafendichter feat. Tanzwelle
LOCATION:PORTO POLLO
END:VEVENT
END:VCALENDAR


