BEGIN:VCALENDAR
VERSION:2.0
PRODID:-//hacksw/handcal//NONSGML v1.0//EN
BEGIN:VEVENT
UID:8820
DTSTART;VALUE=DATE:20170811
URL;VALUE=URI:ohschonhell.at/?page_id=18019
SUMMARY:STEVE HOPE and Friends meets Musikerziehung
LOCATION:SASS
END:VEVENT
END:VCALENDAR


