BEGIN:VCALENDAR
VERSION:2.0
PRODID:-//hacksw/handcal//NONSGML v1.0//EN
BEGIN:VEVENT
UID:8822
DTSTART;VALUE=DATE:20170811
URL;VALUE=URI:ohschonhell.at/?page_id=18023
SUMMARY:Lost in Bass
LOCATION:ELEKTRO GÖNNER
END:VEVENT
END:VCALENDAR


