BEGIN:VCALENDAR
VERSION:2.0
PRODID:-//hacksw/handcal//NONSGML v1.0//EN
BEGIN:VEVENT
UID:8827
DTSTART;VALUE=DATE:20170817
URL;VALUE=URI:ohschonhell.at/?page_id=18053
SUMMARY:Tonight - Cheeky Thursday Special w/ Schmitz (PRT)
LOCATION:PRIME
END:VEVENT
END:VCALENDAR


